BEGIN:VCALENDAR
VERSION:2.0
PRODID:-//Campus Spangen - ECPv6.15.20//NONSGML v1.0//EN
CALSCALE:GREGORIAN
METHOD:PUBLISH
X-ORIGINAL-URL:https://campusspangen.nl
X-WR-CALDESC:Evenementen voor Campus Spangen
REFRESH-INTERVAL;VALUE=DURATION:PT1H
X-Robots-Tag:noindex
X-PUBLISHED-TTL:PT1H
BEGIN:VTIMEZONE
TZID:UTC
BEGIN:STANDARD
TZOFFSETFROM:+0000
TZOFFSETTO:+0000
TZNAME:UTC
DTSTART:20250101T000000
END:STANDARD
END:VTIMEZONE
BEGIN:VEVENT
DTSTART;TZID=UTC:20260427T170000
DTEND;TZID=UTC:20260427T200000
DTSTAMP:20260423T210435
CREATED:20250107T001503Z
LAST-MODIFIED:20260203T111743Z
UID:10004119-1777309200-1777320000@campusspangen.nl
SUMMARY:Eetclub
DESCRIPTION:Welkom bij de eetclub in het Westervolkshuis. Schuif aan bij de buurtmaaltijd in Spangen. Voor bewoners die moeilijk kunnen rondkomen en bewoners die zich eenzaam voelen en die hun sociale contacten willen uitbreiden en nieuwkomers in de wijk. \n\n\n\nNeem voor meer informatie contact op met Bianca van Aken (010-2680311).
URL:https://campusspangen.nl/activiteit/eetclub/2026-04-27/
LOCATION:Westervolkshuis\, Spartastraat 1\, Rotterdam\, 3027 ER\, Nederland
CATEGORIES:Eten,Ontmoeten
ATTACH;FMTTYPE=image/webp:https://campusspangen.nl/wp-content/uploads/2025/01/Eetclub.webp
ORGANIZER;CN="wmo radar":MAILTO:slucio@wmoradar.nl
END:VEVENT
BEGIN:VEVENT
DTSTART;TZID=UTC:20260504T170000
DTEND;TZID=UTC:20260504T200000
DTSTAMP:20260423T210435
CREATED:20250107T001503Z
LAST-MODIFIED:20260203T111743Z
UID:10004120-1777914000-1777924800@campusspangen.nl
SUMMARY:Eetclub
DESCRIPTION:Welkom bij de eetclub in het Westervolkshuis. Schuif aan bij de buurtmaaltijd in Spangen. Voor bewoners die moeilijk kunnen rondkomen en bewoners die zich eenzaam voelen en die hun sociale contacten willen uitbreiden en nieuwkomers in de wijk. \n\n\n\nNeem voor meer informatie contact op met Bianca van Aken (010-2680311).
URL:https://campusspangen.nl/activiteit/eetclub/2026-05-04/
LOCATION:Westervolkshuis\, Spartastraat 1\, Rotterdam\, 3027 ER\, Nederland
CATEGORIES:Eten,Ontmoeten
ATTACH;FMTTYPE=image/webp:https://campusspangen.nl/wp-content/uploads/2025/01/Eetclub.webp
ORGANIZER;CN="wmo radar":MAILTO:slucio@wmoradar.nl
END:VEVENT
BEGIN:VEVENT
DTSTART;TZID=UTC:20260511T170000
DTEND;TZID=UTC:20260511T200000
DTSTAMP:20260423T210435
CREATED:20250107T001503Z
LAST-MODIFIED:20260203T111743Z
UID:10004121-1778518800-1778529600@campusspangen.nl
SUMMARY:Eetclub
DESCRIPTION:Welkom bij de eetclub in het Westervolkshuis. Schuif aan bij de buurtmaaltijd in Spangen. Voor bewoners die moeilijk kunnen rondkomen en bewoners die zich eenzaam voelen en die hun sociale contacten willen uitbreiden en nieuwkomers in de wijk. \n\n\n\nNeem voor meer informatie contact op met Bianca van Aken (010-2680311).
URL:https://campusspangen.nl/activiteit/eetclub/2026-05-11/
LOCATION:Westervolkshuis\, Spartastraat 1\, Rotterdam\, 3027 ER\, Nederland
CATEGORIES:Eten,Ontmoeten
ATTACH;FMTTYPE=image/webp:https://campusspangen.nl/wp-content/uploads/2025/01/Eetclub.webp
ORGANIZER;CN="wmo radar":MAILTO:slucio@wmoradar.nl
END:VEVENT
BEGIN:VEVENT
DTSTART;TZID=UTC:20260518T170000
DTEND;TZID=UTC:20260518T200000
DTSTAMP:20260423T210435
CREATED:20250107T001503Z
LAST-MODIFIED:20260203T111743Z
UID:10004122-1779123600-1779134400@campusspangen.nl
SUMMARY:Eetclub
DESCRIPTION:Welkom bij de eetclub in het Westervolkshuis. Schuif aan bij de buurtmaaltijd in Spangen. Voor bewoners die moeilijk kunnen rondkomen en bewoners die zich eenzaam voelen en die hun sociale contacten willen uitbreiden en nieuwkomers in de wijk. \n\n\n\nNeem voor meer informatie contact op met Bianca van Aken (010-2680311).
URL:https://campusspangen.nl/activiteit/eetclub/2026-05-18/
LOCATION:Westervolkshuis\, Spartastraat 1\, Rotterdam\, 3027 ER\, Nederland
CATEGORIES:Eten,Ontmoeten
ATTACH;FMTTYPE=image/webp:https://campusspangen.nl/wp-content/uploads/2025/01/Eetclub.webp
ORGANIZER;CN="wmo radar":MAILTO:slucio@wmoradar.nl
END:VEVENT
BEGIN:VEVENT
DTSTART;TZID=UTC:20260525T170000
DTEND;TZID=UTC:20260525T200000
DTSTAMP:20260423T210435
CREATED:20250107T001503Z
LAST-MODIFIED:20260203T111743Z
UID:10004123-1779728400-1779739200@campusspangen.nl
SUMMARY:Eetclub
DESCRIPTION:Welkom bij de eetclub in het Westervolkshuis. Schuif aan bij de buurtmaaltijd in Spangen. Voor bewoners die moeilijk kunnen rondkomen en bewoners die zich eenzaam voelen en die hun sociale contacten willen uitbreiden en nieuwkomers in de wijk. \n\n\n\nNeem voor meer informatie contact op met Bianca van Aken (010-2680311).
URL:https://campusspangen.nl/activiteit/eetclub/2026-05-25/
LOCATION:Westervolkshuis\, Spartastraat 1\, Rotterdam\, 3027 ER\, Nederland
CATEGORIES:Eten,Ontmoeten
ATTACH;FMTTYPE=image/webp:https://campusspangen.nl/wp-content/uploads/2025/01/Eetclub.webp
ORGANIZER;CN="wmo radar":MAILTO:slucio@wmoradar.nl
END:VEVENT
BEGIN:VEVENT
DTSTART;TZID=UTC:20260601T170000
DTEND;TZID=UTC:20260601T200000
DTSTAMP:20260423T210435
CREATED:20250107T001503Z
LAST-MODIFIED:20260203T111743Z
UID:10004124-1780333200-1780344000@campusspangen.nl
SUMMARY:Eetclub
DESCRIPTION:Welkom bij de eetclub in het Westervolkshuis. Schuif aan bij de buurtmaaltijd in Spangen. Voor bewoners die moeilijk kunnen rondkomen en bewoners die zich eenzaam voelen en die hun sociale contacten willen uitbreiden en nieuwkomers in de wijk. \n\n\n\nNeem voor meer informatie contact op met Bianca van Aken (010-2680311).
URL:https://campusspangen.nl/activiteit/eetclub/2026-06-01/
LOCATION:Westervolkshuis\, Spartastraat 1\, Rotterdam\, 3027 ER\, Nederland
CATEGORIES:Eten,Ontmoeten
ATTACH;FMTTYPE=image/webp:https://campusspangen.nl/wp-content/uploads/2025/01/Eetclub.webp
ORGANIZER;CN="wmo radar":MAILTO:slucio@wmoradar.nl
END:VEVENT
BEGIN:VEVENT
DTSTART;TZID=UTC:20260608T170000
DTEND;TZID=UTC:20260608T200000
DTSTAMP:20260423T210435
CREATED:20250107T001503Z
LAST-MODIFIED:20260203T111743Z
UID:10004125-1780938000-1780948800@campusspangen.nl
SUMMARY:Eetclub
DESCRIPTION:Welkom bij de eetclub in het Westervolkshuis. Schuif aan bij de buurtmaaltijd in Spangen. Voor bewoners die moeilijk kunnen rondkomen en bewoners die zich eenzaam voelen en die hun sociale contacten willen uitbreiden en nieuwkomers in de wijk. \n\n\n\nNeem voor meer informatie contact op met Bianca van Aken (010-2680311).
URL:https://campusspangen.nl/activiteit/eetclub/2026-06-08/
LOCATION:Westervolkshuis\, Spartastraat 1\, Rotterdam\, 3027 ER\, Nederland
CATEGORIES:Eten,Ontmoeten
ATTACH;FMTTYPE=image/webp:https://campusspangen.nl/wp-content/uploads/2025/01/Eetclub.webp
ORGANIZER;CN="wmo radar":MAILTO:slucio@wmoradar.nl
END:VEVENT
BEGIN:VEVENT
DTSTART;TZID=UTC:20260615T170000
DTEND;TZID=UTC:20260615T200000
DTSTAMP:20260423T210435
CREATED:20250107T001503Z
LAST-MODIFIED:20260203T111743Z
UID:10004126-1781542800-1781553600@campusspangen.nl
SUMMARY:Eetclub
DESCRIPTION:Welkom bij de eetclub in het Westervolkshuis. Schuif aan bij de buurtmaaltijd in Spangen. Voor bewoners die moeilijk kunnen rondkomen en bewoners die zich eenzaam voelen en die hun sociale contacten willen uitbreiden en nieuwkomers in de wijk. \n\n\n\nNeem voor meer informatie contact op met Bianca van Aken (010-2680311).
URL:https://campusspangen.nl/activiteit/eetclub/2026-06-15/
LOCATION:Westervolkshuis\, Spartastraat 1\, Rotterdam\, 3027 ER\, Nederland
CATEGORIES:Eten,Ontmoeten
ATTACH;FMTTYPE=image/webp:https://campusspangen.nl/wp-content/uploads/2025/01/Eetclub.webp
ORGANIZER;CN="wmo radar":MAILTO:slucio@wmoradar.nl
END:VEVENT
BEGIN:VEVENT
DTSTART;TZID=UTC:20260622T170000
DTEND;TZID=UTC:20260622T200000
DTSTAMP:20260423T210435
CREATED:20250107T001503Z
LAST-MODIFIED:20260203T111743Z
UID:10004127-1782147600-1782158400@campusspangen.nl
SUMMARY:Eetclub
DESCRIPTION:Welkom bij de eetclub in het Westervolkshuis. Schuif aan bij de buurtmaaltijd in Spangen. Voor bewoners die moeilijk kunnen rondkomen en bewoners die zich eenzaam voelen en die hun sociale contacten willen uitbreiden en nieuwkomers in de wijk. \n\n\n\nNeem voor meer informatie contact op met Bianca van Aken (010-2680311).
URL:https://campusspangen.nl/activiteit/eetclub/2026-06-22/
LOCATION:Westervolkshuis\, Spartastraat 1\, Rotterdam\, 3027 ER\, Nederland
CATEGORIES:Eten,Ontmoeten
ATTACH;FMTTYPE=image/webp:https://campusspangen.nl/wp-content/uploads/2025/01/Eetclub.webp
ORGANIZER;CN="wmo radar":MAILTO:slucio@wmoradar.nl
END:VEVENT
BEGIN:VEVENT
DTSTART;TZID=UTC:20260629T170000
DTEND;TZID=UTC:20260629T200000
DTSTAMP:20260423T210435
CREATED:20250107T001503Z
LAST-MODIFIED:20260203T111743Z
UID:10004128-1782752400-1782763200@campusspangen.nl
SUMMARY:Eetclub
DESCRIPTION:Welkom bij de eetclub in het Westervolkshuis. Schuif aan bij de buurtmaaltijd in Spangen. Voor bewoners die moeilijk kunnen rondkomen en bewoners die zich eenzaam voelen en die hun sociale contacten willen uitbreiden en nieuwkomers in de wijk. \n\n\n\nNeem voor meer informatie contact op met Bianca van Aken (010-2680311).
URL:https://campusspangen.nl/activiteit/eetclub/2026-06-29/
LOCATION:Westervolkshuis\, Spartastraat 1\, Rotterdam\, 3027 ER\, Nederland
CATEGORIES:Eten,Ontmoeten
ATTACH;FMTTYPE=image/webp:https://campusspangen.nl/wp-content/uploads/2025/01/Eetclub.webp
ORGANIZER;CN="wmo radar":MAILTO:slucio@wmoradar.nl
END:VEVENT
BEGIN:VEVENT
DTSTART;TZID=UTC:20260706T170000
DTEND;TZID=UTC:20260706T200000
DTSTAMP:20260423T210435
CREATED:20250107T001503Z
LAST-MODIFIED:20260203T111743Z
UID:10004129-1783357200-1783368000@campusspangen.nl
SUMMARY:Eetclub
DESCRIPTION:Welkom bij de eetclub in het Westervolkshuis. Schuif aan bij de buurtmaaltijd in Spangen. Voor bewoners die moeilijk kunnen rondkomen en bewoners die zich eenzaam voelen en die hun sociale contacten willen uitbreiden en nieuwkomers in de wijk. \n\n\n\nNeem voor meer informatie contact op met Bianca van Aken (010-2680311).
URL:https://campusspangen.nl/activiteit/eetclub/2026-07-06/
LOCATION:Westervolkshuis\, Spartastraat 1\, Rotterdam\, 3027 ER\, Nederland
CATEGORIES:Eten,Ontmoeten
ATTACH;FMTTYPE=image/webp:https://campusspangen.nl/wp-content/uploads/2025/01/Eetclub.webp
ORGANIZER;CN="wmo radar":MAILTO:slucio@wmoradar.nl
END:VEVENT
BEGIN:VEVENT
DTSTART;TZID=UTC:20260713T170000
DTEND;TZID=UTC:20260713T200000
DTSTAMP:20260423T210435
CREATED:20250107T001503Z
LAST-MODIFIED:20260203T111743Z
UID:10004130-1783962000-1783972800@campusspangen.nl
SUMMARY:Eetclub
DESCRIPTION:Welkom bij de eetclub in het Westervolkshuis. Schuif aan bij de buurtmaaltijd in Spangen. Voor bewoners die moeilijk kunnen rondkomen en bewoners die zich eenzaam voelen en die hun sociale contacten willen uitbreiden en nieuwkomers in de wijk. \n\n\n\nNeem voor meer informatie contact op met Bianca van Aken (010-2680311).
URL:https://campusspangen.nl/activiteit/eetclub/2026-07-13/
LOCATION:Westervolkshuis\, Spartastraat 1\, Rotterdam\, 3027 ER\, Nederland
CATEGORIES:Eten,Ontmoeten
ATTACH;FMTTYPE=image/webp:https://campusspangen.nl/wp-content/uploads/2025/01/Eetclub.webp
ORGANIZER;CN="wmo radar":MAILTO:slucio@wmoradar.nl
END:VEVENT
BEGIN:VEVENT
DTSTART;TZID=UTC:20260720T170000
DTEND;TZID=UTC:20260720T200000
DTSTAMP:20260423T210435
CREATED:20250107T001503Z
LAST-MODIFIED:20260203T111743Z
UID:10004131-1784566800-1784577600@campusspangen.nl
SUMMARY:Eetclub
DESCRIPTION:Welkom bij de eetclub in het Westervolkshuis. Schuif aan bij de buurtmaaltijd in Spangen. Voor bewoners die moeilijk kunnen rondkomen en bewoners die zich eenzaam voelen en die hun sociale contacten willen uitbreiden en nieuwkomers in de wijk. \n\n\n\nNeem voor meer informatie contact op met Bianca van Aken (010-2680311).
URL:https://campusspangen.nl/activiteit/eetclub/2026-07-20/
LOCATION:Westervolkshuis\, Spartastraat 1\, Rotterdam\, 3027 ER\, Nederland
CATEGORIES:Eten,Ontmoeten
ATTACH;FMTTYPE=image/webp:https://campusspangen.nl/wp-content/uploads/2025/01/Eetclub.webp
ORGANIZER;CN="wmo radar":MAILTO:slucio@wmoradar.nl
END:VEVENT
BEGIN:VEVENT
DTSTART;TZID=UTC:20260727T170000
DTEND;TZID=UTC:20260727T200000
DTSTAMP:20260423T210435
CREATED:20250107T001503Z
LAST-MODIFIED:20260203T111743Z
UID:10004132-1785171600-1785182400@campusspangen.nl
SUMMARY:Eetclub
DESCRIPTION:Welkom bij de eetclub in het Westervolkshuis. Schuif aan bij de buurtmaaltijd in Spangen. Voor bewoners die moeilijk kunnen rondkomen en bewoners die zich eenzaam voelen en die hun sociale contacten willen uitbreiden en nieuwkomers in de wijk. \n\n\n\nNeem voor meer informatie contact op met Bianca van Aken (010-2680311).
URL:https://campusspangen.nl/activiteit/eetclub/2026-07-27/
LOCATION:Westervolkshuis\, Spartastraat 1\, Rotterdam\, 3027 ER\, Nederland
CATEGORIES:Eten,Ontmoeten
ATTACH;FMTTYPE=image/webp:https://campusspangen.nl/wp-content/uploads/2025/01/Eetclub.webp
ORGANIZER;CN="wmo radar":MAILTO:slucio@wmoradar.nl
END:VEVENT
BEGIN:VEVENT
DTSTART;TZID=UTC:20260803T170000
DTEND;TZID=UTC:20260803T200000
DTSTAMP:20260423T210435
CREATED:20250107T001503Z
LAST-MODIFIED:20260203T111743Z
UID:10004133-1785776400-1785787200@campusspangen.nl
SUMMARY:Eetclub
DESCRIPTION:Welkom bij de eetclub in het Westervolkshuis. Schuif aan bij de buurtmaaltijd in Spangen. Voor bewoners die moeilijk kunnen rondkomen en bewoners die zich eenzaam voelen en die hun sociale contacten willen uitbreiden en nieuwkomers in de wijk. \n\n\n\nNeem voor meer informatie contact op met Bianca van Aken (010-2680311).
URL:https://campusspangen.nl/activiteit/eetclub/2026-08-03/
LOCATION:Westervolkshuis\, Spartastraat 1\, Rotterdam\, 3027 ER\, Nederland
CATEGORIES:Eten,Ontmoeten
ATTACH;FMTTYPE=image/webp:https://campusspangen.nl/wp-content/uploads/2025/01/Eetclub.webp
ORGANIZER;CN="wmo radar":MAILTO:slucio@wmoradar.nl
END:VEVENT
BEGIN:VEVENT
DTSTART;TZID=UTC:20260810T170000
DTEND;TZID=UTC:20260810T200000
DTSTAMP:20260423T210435
CREATED:20250107T001503Z
LAST-MODIFIED:20260203T111743Z
UID:10004134-1786381200-1786392000@campusspangen.nl
SUMMARY:Eetclub
DESCRIPTION:Welkom bij de eetclub in het Westervolkshuis. Schuif aan bij de buurtmaaltijd in Spangen. Voor bewoners die moeilijk kunnen rondkomen en bewoners die zich eenzaam voelen en die hun sociale contacten willen uitbreiden en nieuwkomers in de wijk. \n\n\n\nNeem voor meer informatie contact op met Bianca van Aken (010-2680311).
URL:https://campusspangen.nl/activiteit/eetclub/2026-08-10/
LOCATION:Westervolkshuis\, Spartastraat 1\, Rotterdam\, 3027 ER\, Nederland
CATEGORIES:Eten,Ontmoeten
ATTACH;FMTTYPE=image/webp:https://campusspangen.nl/wp-content/uploads/2025/01/Eetclub.webp
ORGANIZER;CN="wmo radar":MAILTO:slucio@wmoradar.nl
END:VEVENT
BEGIN:VEVENT
DTSTART;TZID=UTC:20260817T170000
DTEND;TZID=UTC:20260817T200000
DTSTAMP:20260423T210435
CREATED:20250107T001503Z
LAST-MODIFIED:20260203T111743Z
UID:10004135-1786986000-1786996800@campusspangen.nl
SUMMARY:Eetclub
DESCRIPTION:Welkom bij de eetclub in het Westervolkshuis. Schuif aan bij de buurtmaaltijd in Spangen. Voor bewoners die moeilijk kunnen rondkomen en bewoners die zich eenzaam voelen en die hun sociale contacten willen uitbreiden en nieuwkomers in de wijk. \n\n\n\nNeem voor meer informatie contact op met Bianca van Aken (010-2680311).
URL:https://campusspangen.nl/activiteit/eetclub/2026-08-17/
LOCATION:Westervolkshuis\, Spartastraat 1\, Rotterdam\, 3027 ER\, Nederland
CATEGORIES:Eten,Ontmoeten
ATTACH;FMTTYPE=image/webp:https://campusspangen.nl/wp-content/uploads/2025/01/Eetclub.webp
ORGANIZER;CN="wmo radar":MAILTO:slucio@wmoradar.nl
END:VEVENT
BEGIN:VEVENT
DTSTART;TZID=UTC:20260824T170000
DTEND;TZID=UTC:20260824T200000
DTSTAMP:20260423T210435
CREATED:20250107T001503Z
LAST-MODIFIED:20260203T111743Z
UID:10004136-1787590800-1787601600@campusspangen.nl
SUMMARY:Eetclub
DESCRIPTION:Welkom bij de eetclub in het Westervolkshuis. Schuif aan bij de buurtmaaltijd in Spangen. Voor bewoners die moeilijk kunnen rondkomen en bewoners die zich eenzaam voelen en die hun sociale contacten willen uitbreiden en nieuwkomers in de wijk. \n\n\n\nNeem voor meer informatie contact op met Bianca van Aken (010-2680311).
URL:https://campusspangen.nl/activiteit/eetclub/2026-08-24/
LOCATION:Westervolkshuis\, Spartastraat 1\, Rotterdam\, 3027 ER\, Nederland
CATEGORIES:Eten,Ontmoeten
ATTACH;FMTTYPE=image/webp:https://campusspangen.nl/wp-content/uploads/2025/01/Eetclub.webp
ORGANIZER;CN="wmo radar":MAILTO:slucio@wmoradar.nl
END:VEVENT
BEGIN:VEVENT
DTSTART;TZID=UTC:20260831T170000
DTEND;TZID=UTC:20260831T200000
DTSTAMP:20260423T210435
CREATED:20250107T001503Z
LAST-MODIFIED:20260203T111743Z
UID:10004137-1788195600-1788206400@campusspangen.nl
SUMMARY:Eetclub
DESCRIPTION:Welkom bij de eetclub in het Westervolkshuis. Schuif aan bij de buurtmaaltijd in Spangen. Voor bewoners die moeilijk kunnen rondkomen en bewoners die zich eenzaam voelen en die hun sociale contacten willen uitbreiden en nieuwkomers in de wijk. \n\n\n\nNeem voor meer informatie contact op met Bianca van Aken (010-2680311).
URL:https://campusspangen.nl/activiteit/eetclub/2026-08-31/
LOCATION:Westervolkshuis\, Spartastraat 1\, Rotterdam\, 3027 ER\, Nederland
CATEGORIES:Eten,Ontmoeten
ATTACH;FMTTYPE=image/webp:https://campusspangen.nl/wp-content/uploads/2025/01/Eetclub.webp
ORGANIZER;CN="wmo radar":MAILTO:slucio@wmoradar.nl
END:VEVENT
BEGIN:VEVENT
DTSTART;TZID=UTC:20260907T170000
DTEND;TZID=UTC:20260907T200000
DTSTAMP:20260423T210435
CREATED:20250107T001503Z
LAST-MODIFIED:20260203T111743Z
UID:10004138-1788800400-1788811200@campusspangen.nl
SUMMARY:Eetclub
DESCRIPTION:Welkom bij de eetclub in het Westervolkshuis. Schuif aan bij de buurtmaaltijd in Spangen. Voor bewoners die moeilijk kunnen rondkomen en bewoners die zich eenzaam voelen en die hun sociale contacten willen uitbreiden en nieuwkomers in de wijk. \n\n\n\nNeem voor meer informatie contact op met Bianca van Aken (010-2680311).
URL:https://campusspangen.nl/activiteit/eetclub/2026-09-07/
LOCATION:Westervolkshuis\, Spartastraat 1\, Rotterdam\, 3027 ER\, Nederland
CATEGORIES:Eten,Ontmoeten
ATTACH;FMTTYPE=image/webp:https://campusspangen.nl/wp-content/uploads/2025/01/Eetclub.webp
ORGANIZER;CN="wmo radar":MAILTO:slucio@wmoradar.nl
END:VEVENT
BEGIN:VEVENT
DTSTART;TZID=UTC:20260914T170000
DTEND;TZID=UTC:20260914T200000
DTSTAMP:20260423T210435
CREATED:20250107T001503Z
LAST-MODIFIED:20260203T111743Z
UID:10004139-1789405200-1789416000@campusspangen.nl
SUMMARY:Eetclub
DESCRIPTION:Welkom bij de eetclub in het Westervolkshuis. Schuif aan bij de buurtmaaltijd in Spangen. Voor bewoners die moeilijk kunnen rondkomen en bewoners die zich eenzaam voelen en die hun sociale contacten willen uitbreiden en nieuwkomers in de wijk. \n\n\n\nNeem voor meer informatie contact op met Bianca van Aken (010-2680311).
URL:https://campusspangen.nl/activiteit/eetclub/2026-09-14/
LOCATION:Westervolkshuis\, Spartastraat 1\, Rotterdam\, 3027 ER\, Nederland
CATEGORIES:Eten,Ontmoeten
ATTACH;FMTTYPE=image/webp:https://campusspangen.nl/wp-content/uploads/2025/01/Eetclub.webp
ORGANIZER;CN="wmo radar":MAILTO:slucio@wmoradar.nl
END:VEVENT
BEGIN:VEVENT
DTSTART;TZID=UTC:20260921T170000
DTEND;TZID=UTC:20260921T200000
DTSTAMP:20260423T210435
CREATED:20250107T001503Z
LAST-MODIFIED:20260203T111743Z
UID:10004140-1790010000-1790020800@campusspangen.nl
SUMMARY:Eetclub
DESCRIPTION:Welkom bij de eetclub in het Westervolkshuis. Schuif aan bij de buurtmaaltijd in Spangen. Voor bewoners die moeilijk kunnen rondkomen en bewoners die zich eenzaam voelen en die hun sociale contacten willen uitbreiden en nieuwkomers in de wijk. \n\n\n\nNeem voor meer informatie contact op met Bianca van Aken (010-2680311).
URL:https://campusspangen.nl/activiteit/eetclub/2026-09-21/
LOCATION:Westervolkshuis\, Spartastraat 1\, Rotterdam\, 3027 ER\, Nederland
CATEGORIES:Eten,Ontmoeten
ATTACH;FMTTYPE=image/webp:https://campusspangen.nl/wp-content/uploads/2025/01/Eetclub.webp
ORGANIZER;CN="wmo radar":MAILTO:slucio@wmoradar.nl
END:VEVENT
BEGIN:VEVENT
DTSTART;TZID=UTC:20260928T170000
DTEND;TZID=UTC:20260928T200000
DTSTAMP:20260423T210435
CREATED:20250107T001503Z
LAST-MODIFIED:20260203T111743Z
UID:10004141-1790614800-1790625600@campusspangen.nl
SUMMARY:Eetclub
DESCRIPTION:Welkom bij de eetclub in het Westervolkshuis. Schuif aan bij de buurtmaaltijd in Spangen. Voor bewoners die moeilijk kunnen rondkomen en bewoners die zich eenzaam voelen en die hun sociale contacten willen uitbreiden en nieuwkomers in de wijk. \n\n\n\nNeem voor meer informatie contact op met Bianca van Aken (010-2680311).
URL:https://campusspangen.nl/activiteit/eetclub/2026-09-28/
LOCATION:Westervolkshuis\, Spartastraat 1\, Rotterdam\, 3027 ER\, Nederland
CATEGORIES:Eten,Ontmoeten
ATTACH;FMTTYPE=image/webp:https://campusspangen.nl/wp-content/uploads/2025/01/Eetclub.webp
ORGANIZER;CN="wmo radar":MAILTO:slucio@wmoradar.nl
END:VEVENT
BEGIN:VEVENT
DTSTART;TZID=UTC:20261005T170000
DTEND;TZID=UTC:20261005T200000
DTSTAMP:20260423T210435
CREATED:20250107T001503Z
LAST-MODIFIED:20260203T111743Z
UID:10004142-1791219600-1791230400@campusspangen.nl
SUMMARY:Eetclub
DESCRIPTION:Welkom bij de eetclub in het Westervolkshuis. Schuif aan bij de buurtmaaltijd in Spangen. Voor bewoners die moeilijk kunnen rondkomen en bewoners die zich eenzaam voelen en die hun sociale contacten willen uitbreiden en nieuwkomers in de wijk. \n\n\n\nNeem voor meer informatie contact op met Bianca van Aken (010-2680311).
URL:https://campusspangen.nl/activiteit/eetclub/2026-10-05/
LOCATION:Westervolkshuis\, Spartastraat 1\, Rotterdam\, 3027 ER\, Nederland
CATEGORIES:Eten,Ontmoeten
ATTACH;FMTTYPE=image/webp:https://campusspangen.nl/wp-content/uploads/2025/01/Eetclub.webp
ORGANIZER;CN="wmo radar":MAILTO:slucio@wmoradar.nl
END:VEVENT
BEGIN:VEVENT
DTSTART;TZID=UTC:20261012T170000
DTEND;TZID=UTC:20261012T200000
DTSTAMP:20260423T210435
CREATED:20250107T001503Z
LAST-MODIFIED:20260203T111743Z
UID:10004143-1791824400-1791835200@campusspangen.nl
SUMMARY:Eetclub
DESCRIPTION:Welkom bij de eetclub in het Westervolkshuis. Schuif aan bij de buurtmaaltijd in Spangen. Voor bewoners die moeilijk kunnen rondkomen en bewoners die zich eenzaam voelen en die hun sociale contacten willen uitbreiden en nieuwkomers in de wijk. \n\n\n\nNeem voor meer informatie contact op met Bianca van Aken (010-2680311).
URL:https://campusspangen.nl/activiteit/eetclub/2026-10-12/
LOCATION:Westervolkshuis\, Spartastraat 1\, Rotterdam\, 3027 ER\, Nederland
CATEGORIES:Eten,Ontmoeten
ATTACH;FMTTYPE=image/webp:https://campusspangen.nl/wp-content/uploads/2025/01/Eetclub.webp
ORGANIZER;CN="wmo radar":MAILTO:slucio@wmoradar.nl
END:VEVENT
END:VCALENDAR