BEGIN:VCALENDAR
VERSION:2.0
PRODID:-//Campus Spangen - ECPv6.15.20//NONSGML v1.0//EN
CALSCALE:GREGORIAN
METHOD:PUBLISH
X-ORIGINAL-URL:https://campusspangen.nl
X-WR-CALDESC:Evenementen voor Campus Spangen
REFRESH-INTERVAL;VALUE=DURATION:PT1H
X-Robots-Tag:noindex
X-PUBLISHED-TTL:PT1H
BEGIN:VTIMEZONE
TZID:UTC
BEGIN:STANDARD
TZOFFSETFROM:+0000
TZOFFSETTO:+0000
TZNAME:UTC
DTSTART:20250101T000000
END:STANDARD
END:VTIMEZONE
BEGIN:VEVENT
DTSTART;TZID=UTC:20260423T180000
DTEND;TZID=UTC:20260423T190000
DTSTAMP:20260424T035234
CREATED:20260110T000526Z
LAST-MODIFIED:20260203T112312Z
UID:10004170-1776967200-1776970800@campusspangen.nl
SUMMARY:Wijkdiner
DESCRIPTION:Geniet elke week van een heerlijk gezond\, betaalbaar en gezellig wijkdiner in Tussen Hemel & Aarde. \n\n\n\n\n\n€ 1\,50   kinderen tot 12 jaar
URL:https://campusspangen.nl/activiteit/wijkdiner-2/2026-04-23/
LOCATION:Tussen Hemel & Aarde\, Jan Luykenstraat 12\, Rotterdam\, 3027 EC
CATEGORIES:Eten,Ontmoeten
ATTACH;FMTTYPE=image/jpeg:https://campusspangen.nl/wp-content/uploads/2024/07/Wijkdiner-Geloven-in-Spangen.jpg
ORGANIZER;CN="Geloven in Spangen":MAILTO:info@geloveninspangen.nl
END:VEVENT
BEGIN:VEVENT
DTSTART;TZID=UTC:20260422T130000
DTEND;TZID=UTC:20260422T150000
DTSTAMP:20260424T035234
CREATED:20260109T000559Z
LAST-MODIFIED:20260203T111523Z
UID:10003978-1776862800-1776870000@campusspangen.nl
SUMMARY:Kindercoachclub
DESCRIPTION:Bij de kindercoachclub staat ontmoeting\, gezelligheid en leren centraal. We doen leuke spellen\, leren nieuwe skills en leren elkaar beter kennen. Kom je ook?
URL:https://campusspangen.nl/activiteit/kindercoachclub/2026-04-22/
LOCATION:Tussen Hemel & Aarde\, Jan Luykenstraat 12\, Rotterdam\, 3027 EC
CATEGORIES:Begeleiding,Gezondheid,Ontwikkelen
ATTACH;FMTTYPE=image/jpeg:https://campusspangen.nl/wp-content/uploads/2023/12/Kindercoachclub-Spangen.jpg
ORGANIZER;CN="Geloven in Spangen":MAILTO:info@geloveninspangen.nl
END:VEVENT
BEGIN:VEVENT
DTSTART;TZID=UTC:20260420T170000
DTEND;TZID=UTC:20260420T200000
DTSTAMP:20260424T035234
CREATED:20250107T001503Z
LAST-MODIFIED:20260203T111743Z
UID:10004118-1776704400-1776715200@campusspangen.nl
SUMMARY:Eetclub
DESCRIPTION:Welkom bij de eetclub in het Westervolkshuis. Schuif aan bij de buurtmaaltijd in Spangen. Voor bewoners die moeilijk kunnen rondkomen en bewoners die zich eenzaam voelen en die hun sociale contacten willen uitbreiden en nieuwkomers in de wijk. \n\n\n\nNeem voor meer informatie contact op met Bianca van Aken (010-2680311).
URL:https://campusspangen.nl/activiteit/eetclub/2026-04-20/
LOCATION:Westervolkshuis\, Spartastraat 1\, Rotterdam\, 3027 ER\, Nederland
CATEGORIES:Eten,Ontmoeten
ATTACH;FMTTYPE=image/webp:https://campusspangen.nl/wp-content/uploads/2025/01/Eetclub.webp
ORGANIZER;CN="wmo radar":MAILTO:slucio@wmoradar.nl
END:VEVENT
BEGIN:VEVENT
DTSTART;TZID=UTC:20260420T153000
DTEND;TZID=UTC:20260420T170000
DTSTAMP:20260424T035234
CREATED:20240706T230525Z
LAST-MODIFIED:20260203T111835Z
UID:10000376-1776699000-1776704400@campusspangen.nl
SUMMARY:Huiswerkklas
DESCRIPTION:Elke maandagmiddag is er huiswerkklas in Spangen voor kinderen in het basisonderwijs. De begeleider van de huiswerkklas helpt je om jouw huiswerk goed te maken\, geeft uitleg waar dat nodig is en helpt je verder. Of het nu gaat om rekenen\, taal\, aardrijkskunde of begrijpend lezen: we helpen je verder.
URL:https://campusspangen.nl/activiteit/huiswerkklas/2026-04-20/
LOCATION:Tussen Hemel & Aarde\, Jan Luykenstraat 12\, Rotterdam\, 3027 EC
CATEGORIES:Begeleiding,Hulp,Ontwikkelen
ATTACH;FMTTYPE=image/jpeg:https://campusspangen.nl/wp-content/uploads/2024/07/Huiswerkklas-in-Spangen.jpg
ORGANIZER;CN="Geloven in Spangen":MAILTO:info@geloveninspangen.nl
END:VEVENT
BEGIN:VEVENT
DTSTART;TZID=UTC:20260418T113000
DTEND;TZID=UTC:20260418T130000
DTSTAMP:20260424T035234
CREATED:20260112T000609Z
LAST-MODIFIED:20260203T111603Z
UID:10004028-1776511800-1776517200@campusspangen.nl
SUMMARY:Viering
DESCRIPTION:Elke zondag om 11.30 uur is er een viering van Geloven in Spangen in Speeltuin het Westen (Spaanseweg 38). Welkom! Om 11.00 uur staat koffie\, thee en fris klaar en is er gelegenheid voor ontmoeting. Je bent van harte welkom! Na afloop van de viering lunchen we samen. Neem je ook iets lekkers mee voor de lunch?
URL:https://campusspangen.nl/activiteit/viering-2-2/2026-04-18/
LOCATION:Speeltuin het Westen\, Spaanseweg 38\, Rotterdam\, Zuid-Holland\, 3028 HW\, Nederland
CATEGORIES:Zingeving
ATTACH;FMTTYPE=image/jpeg:https://campusspangen.nl/wp-content/uploads/2024/07/Viering-Geloven-in-Spangen-–-Kerk-in-Spangen.jpg
ORGANIZER;CN="Geloven in Spangen":MAILTO:info@geloveninspangen.nl
END:VEVENT
BEGIN:VEVENT
DTSTART;TZID=UTC:20260416T180000
DTEND;TZID=UTC:20260416T190000
DTSTAMP:20260424T035234
CREATED:20260110T000526Z
LAST-MODIFIED:20260203T112312Z
UID:10004169-1776362400-1776366000@campusspangen.nl
SUMMARY:Wijkdiner
DESCRIPTION:Geniet elke week van een heerlijk gezond\, betaalbaar en gezellig wijkdiner in Tussen Hemel & Aarde. \n\n\n\n\n\n€ 1\,50   kinderen tot 12 jaar
URL:https://campusspangen.nl/activiteit/wijkdiner-2/2026-04-16/
LOCATION:Tussen Hemel & Aarde\, Jan Luykenstraat 12\, Rotterdam\, 3027 EC
CATEGORIES:Eten,Ontmoeten
ATTACH;FMTTYPE=image/jpeg:https://campusspangen.nl/wp-content/uploads/2024/07/Wijkdiner-Geloven-in-Spangen.jpg
ORGANIZER;CN="Geloven in Spangen":MAILTO:info@geloveninspangen.nl
END:VEVENT
BEGIN:VEVENT
DTSTART;TZID=UTC:20260415T130000
DTEND;TZID=UTC:20260415T150000
DTSTAMP:20260424T035234
CREATED:20260109T000559Z
LAST-MODIFIED:20260203T111523Z
UID:10003977-1776258000-1776265200@campusspangen.nl
SUMMARY:Kindercoachclub
DESCRIPTION:Bij de kindercoachclub staat ontmoeting\, gezelligheid en leren centraal. We doen leuke spellen\, leren nieuwe skills en leren elkaar beter kennen. Kom je ook?
URL:https://campusspangen.nl/activiteit/kindercoachclub/2026-04-15/
LOCATION:Tussen Hemel & Aarde\, Jan Luykenstraat 12\, Rotterdam\, 3027 EC
CATEGORIES:Begeleiding,Gezondheid,Ontwikkelen
ATTACH;FMTTYPE=image/jpeg:https://campusspangen.nl/wp-content/uploads/2023/12/Kindercoachclub-Spangen.jpg
ORGANIZER;CN="Geloven in Spangen":MAILTO:info@geloveninspangen.nl
END:VEVENT
BEGIN:VEVENT
DTSTART;TZID=UTC:20260413T170000
DTEND;TZID=UTC:20260413T200000
DTSTAMP:20260424T035234
CREATED:20250107T001503Z
LAST-MODIFIED:20260203T111743Z
UID:10004117-1776099600-1776110400@campusspangen.nl
SUMMARY:Eetclub
DESCRIPTION:Welkom bij de eetclub in het Westervolkshuis. Schuif aan bij de buurtmaaltijd in Spangen. Voor bewoners die moeilijk kunnen rondkomen en bewoners die zich eenzaam voelen en die hun sociale contacten willen uitbreiden en nieuwkomers in de wijk. \n\n\n\nNeem voor meer informatie contact op met Bianca van Aken (010-2680311).
URL:https://campusspangen.nl/activiteit/eetclub/2026-04-13/
LOCATION:Westervolkshuis\, Spartastraat 1\, Rotterdam\, 3027 ER\, Nederland
CATEGORIES:Eten,Ontmoeten
ATTACH;FMTTYPE=image/webp:https://campusspangen.nl/wp-content/uploads/2025/01/Eetclub.webp
ORGANIZER;CN="wmo radar":MAILTO:slucio@wmoradar.nl
END:VEVENT
BEGIN:VEVENT
DTSTART;TZID=UTC:20260413T153000
DTEND;TZID=UTC:20260413T170000
DTSTAMP:20260424T035234
CREATED:20240706T230525Z
LAST-MODIFIED:20260203T111835Z
UID:10000375-1776094200-1776099600@campusspangen.nl
SUMMARY:Huiswerkklas
DESCRIPTION:Elke maandagmiddag is er huiswerkklas in Spangen voor kinderen in het basisonderwijs. De begeleider van de huiswerkklas helpt je om jouw huiswerk goed te maken\, geeft uitleg waar dat nodig is en helpt je verder. Of het nu gaat om rekenen\, taal\, aardrijkskunde of begrijpend lezen: we helpen je verder.
URL:https://campusspangen.nl/activiteit/huiswerkklas/2026-04-13/
LOCATION:Tussen Hemel & Aarde\, Jan Luykenstraat 12\, Rotterdam\, 3027 EC
CATEGORIES:Begeleiding,Hulp,Ontwikkelen
ATTACH;FMTTYPE=image/jpeg:https://campusspangen.nl/wp-content/uploads/2024/07/Huiswerkklas-in-Spangen.jpg
ORGANIZER;CN="Geloven in Spangen":MAILTO:info@geloveninspangen.nl
END:VEVENT
BEGIN:VEVENT
DTSTART;TZID=UTC:20260411T113000
DTEND;TZID=UTC:20260411T130000
DTSTAMP:20260424T035234
CREATED:20260112T000609Z
LAST-MODIFIED:20260203T111603Z
UID:10004027-1775907000-1775912400@campusspangen.nl
SUMMARY:Viering
DESCRIPTION:Elke zondag om 11.30 uur is er een viering van Geloven in Spangen in Speeltuin het Westen (Spaanseweg 38). Welkom! Om 11.00 uur staat koffie\, thee en fris klaar en is er gelegenheid voor ontmoeting. Je bent van harte welkom! Na afloop van de viering lunchen we samen. Neem je ook iets lekkers mee voor de lunch?
URL:https://campusspangen.nl/activiteit/viering-2-2/2026-04-11/
LOCATION:Speeltuin het Westen\, Spaanseweg 38\, Rotterdam\, Zuid-Holland\, 3028 HW\, Nederland
CATEGORIES:Zingeving
ATTACH;FMTTYPE=image/jpeg:https://campusspangen.nl/wp-content/uploads/2024/07/Viering-Geloven-in-Spangen-–-Kerk-in-Spangen.jpg
ORGANIZER;CN="Geloven in Spangen":MAILTO:info@geloveninspangen.nl
END:VEVENT
BEGIN:VEVENT
DTSTART;TZID=UTC:20260409T180000
DTEND;TZID=UTC:20260409T190000
DTSTAMP:20260424T035234
CREATED:20260110T000526Z
LAST-MODIFIED:20260203T112312Z
UID:10004168-1775757600-1775761200@campusspangen.nl
SUMMARY:Wijkdiner
DESCRIPTION:Geniet elke week van een heerlijk gezond\, betaalbaar en gezellig wijkdiner in Tussen Hemel & Aarde. \n\n\n\n\n\n€ 1\,50   kinderen tot 12 jaar
URL:https://campusspangen.nl/activiteit/wijkdiner-2/2026-04-09/
LOCATION:Tussen Hemel & Aarde\, Jan Luykenstraat 12\, Rotterdam\, 3027 EC
CATEGORIES:Eten,Ontmoeten
ATTACH;FMTTYPE=image/jpeg:https://campusspangen.nl/wp-content/uploads/2024/07/Wijkdiner-Geloven-in-Spangen.jpg
ORGANIZER;CN="Geloven in Spangen":MAILTO:info@geloveninspangen.nl
END:VEVENT
BEGIN:VEVENT
DTSTART;TZID=UTC:20260408T130000
DTEND;TZID=UTC:20260408T150000
DTSTAMP:20260424T035234
CREATED:20260109T000559Z
LAST-MODIFIED:20260203T111523Z
UID:10003976-1775653200-1775660400@campusspangen.nl
SUMMARY:Kindercoachclub
DESCRIPTION:Bij de kindercoachclub staat ontmoeting\, gezelligheid en leren centraal. We doen leuke spellen\, leren nieuwe skills en leren elkaar beter kennen. Kom je ook?
URL:https://campusspangen.nl/activiteit/kindercoachclub/2026-04-08/
LOCATION:Tussen Hemel & Aarde\, Jan Luykenstraat 12\, Rotterdam\, 3027 EC
CATEGORIES:Begeleiding,Gezondheid,Ontwikkelen
ATTACH;FMTTYPE=image/jpeg:https://campusspangen.nl/wp-content/uploads/2023/12/Kindercoachclub-Spangen.jpg
ORGANIZER;CN="Geloven in Spangen":MAILTO:info@geloveninspangen.nl
END:VEVENT
BEGIN:VEVENT
DTSTART;TZID=UTC:20260406T170000
DTEND;TZID=UTC:20260406T200000
DTSTAMP:20260424T035234
CREATED:20250107T001503Z
LAST-MODIFIED:20260203T111743Z
UID:10004116-1775494800-1775505600@campusspangen.nl
SUMMARY:Eetclub
DESCRIPTION:Welkom bij de eetclub in het Westervolkshuis. Schuif aan bij de buurtmaaltijd in Spangen. Voor bewoners die moeilijk kunnen rondkomen en bewoners die zich eenzaam voelen en die hun sociale contacten willen uitbreiden en nieuwkomers in de wijk. \n\n\n\nNeem voor meer informatie contact op met Bianca van Aken (010-2680311).
URL:https://campusspangen.nl/activiteit/eetclub/2026-04-06/
LOCATION:Westervolkshuis\, Spartastraat 1\, Rotterdam\, 3027 ER\, Nederland
CATEGORIES:Eten,Ontmoeten
ATTACH;FMTTYPE=image/webp:https://campusspangen.nl/wp-content/uploads/2025/01/Eetclub.webp
ORGANIZER;CN="wmo radar":MAILTO:slucio@wmoradar.nl
END:VEVENT
BEGIN:VEVENT
DTSTART;TZID=UTC:20260406T153000
DTEND;TZID=UTC:20260406T170000
DTSTAMP:20260424T035234
CREATED:20240706T230525Z
LAST-MODIFIED:20260203T111835Z
UID:10000374-1775489400-1775494800@campusspangen.nl
SUMMARY:Huiswerkklas
DESCRIPTION:Elke maandagmiddag is er huiswerkklas in Spangen voor kinderen in het basisonderwijs. De begeleider van de huiswerkklas helpt je om jouw huiswerk goed te maken\, geeft uitleg waar dat nodig is en helpt je verder. Of het nu gaat om rekenen\, taal\, aardrijkskunde of begrijpend lezen: we helpen je verder.
URL:https://campusspangen.nl/activiteit/huiswerkklas/2026-04-06/
LOCATION:Tussen Hemel & Aarde\, Jan Luykenstraat 12\, Rotterdam\, 3027 EC
CATEGORIES:Begeleiding,Hulp,Ontwikkelen
ATTACH;FMTTYPE=image/jpeg:https://campusspangen.nl/wp-content/uploads/2024/07/Huiswerkklas-in-Spangen.jpg
ORGANIZER;CN="Geloven in Spangen":MAILTO:info@geloveninspangen.nl
END:VEVENT
BEGIN:VEVENT
DTSTART;TZID=UTC:20260404T113000
DTEND;TZID=UTC:20260404T130000
DTSTAMP:20260424T035234
CREATED:20260112T000609Z
LAST-MODIFIED:20260203T111603Z
UID:10004026-1775302200-1775307600@campusspangen.nl
SUMMARY:Viering
DESCRIPTION:Elke zondag om 11.30 uur is er een viering van Geloven in Spangen in Speeltuin het Westen (Spaanseweg 38). Welkom! Om 11.00 uur staat koffie\, thee en fris klaar en is er gelegenheid voor ontmoeting. Je bent van harte welkom! Na afloop van de viering lunchen we samen. Neem je ook iets lekkers mee voor de lunch?
URL:https://campusspangen.nl/activiteit/viering-2-2/2026-04-04/
LOCATION:Speeltuin het Westen\, Spaanseweg 38\, Rotterdam\, Zuid-Holland\, 3028 HW\, Nederland
CATEGORIES:Zingeving
ATTACH;FMTTYPE=image/jpeg:https://campusspangen.nl/wp-content/uploads/2024/07/Viering-Geloven-in-Spangen-–-Kerk-in-Spangen.jpg
ORGANIZER;CN="Geloven in Spangen":MAILTO:info@geloveninspangen.nl
END:VEVENT
BEGIN:VEVENT
DTSTART;TZID=UTC:20260402T190000
DTEND;TZID=UTC:20260402T210000
DTSTAMP:20260424T035234
CREATED:20260203T112010Z
LAST-MODIFIED:20260203T112011Z
UID:10004149-1775156400-1775163600@campusspangen.nl
SUMMARY:Mom(m)ents
DESCRIPTION:Coach- en inspiratiemoment voor dames uit de wijk. We delen verhalen\, leren zelfzorg en gebruiken onze creativiteit.
URL:https://campusspangen.nl/activiteit/momments-2/2026-04-02/
LOCATION:Tussen Hemel & Aarde\, Jan Luykenstraat 12\, Rotterdam\, 3027 EC
CATEGORIES:Gezondheid,Ontmoeten,Ontwikkelen
ATTACH;FMTTYPE=image/jpeg:https://campusspangen.nl/wp-content/uploads/2024/07/Momments.jpg
ORGANIZER;CN="Geloven in Spangen":MAILTO:info@geloveninspangen.nl
END:VEVENT
BEGIN:VEVENT
DTSTART;TZID=UTC:20260402T180000
DTEND;TZID=UTC:20260402T190000
DTSTAMP:20260424T035234
CREATED:20260110T000526Z
LAST-MODIFIED:20260203T112312Z
UID:10004167-1775152800-1775156400@campusspangen.nl
SUMMARY:Wijkdiner
DESCRIPTION:Geniet elke week van een heerlijk gezond\, betaalbaar en gezellig wijkdiner in Tussen Hemel & Aarde. \n\n\n\n\n\n€ 1\,50   kinderen tot 12 jaar
URL:https://campusspangen.nl/activiteit/wijkdiner-2/2026-04-02/
LOCATION:Tussen Hemel & Aarde\, Jan Luykenstraat 12\, Rotterdam\, 3027 EC
CATEGORIES:Eten,Ontmoeten
ATTACH;FMTTYPE=image/jpeg:https://campusspangen.nl/wp-content/uploads/2024/07/Wijkdiner-Geloven-in-Spangen.jpg
ORGANIZER;CN="Geloven in Spangen":MAILTO:info@geloveninspangen.nl
END:VEVENT
BEGIN:VEVENT
DTSTART;TZID=UTC:20260401T130000
DTEND;TZID=UTC:20260401T150000
DTSTAMP:20260424T035234
CREATED:20260109T000559Z
LAST-MODIFIED:20260203T111523Z
UID:10003975-1775048400-1775055600@campusspangen.nl
SUMMARY:Kindercoachclub
DESCRIPTION:Bij de kindercoachclub staat ontmoeting\, gezelligheid en leren centraal. We doen leuke spellen\, leren nieuwe skills en leren elkaar beter kennen. Kom je ook?
URL:https://campusspangen.nl/activiteit/kindercoachclub/2026-04-01/
LOCATION:Tussen Hemel & Aarde\, Jan Luykenstraat 12\, Rotterdam\, 3027 EC
CATEGORIES:Begeleiding,Gezondheid,Ontwikkelen
ATTACH;FMTTYPE=image/jpeg:https://campusspangen.nl/wp-content/uploads/2023/12/Kindercoachclub-Spangen.jpg
ORGANIZER;CN="Geloven in Spangen":MAILTO:info@geloveninspangen.nl
END:VEVENT
BEGIN:VEVENT
DTSTART;TZID=UTC:20260330T170000
DTEND;TZID=UTC:20260330T200000
DTSTAMP:20260424T035234
CREATED:20250107T001503Z
LAST-MODIFIED:20260203T111743Z
UID:10004115-1774890000-1774900800@campusspangen.nl
SUMMARY:Eetclub
DESCRIPTION:Welkom bij de eetclub in het Westervolkshuis. Schuif aan bij de buurtmaaltijd in Spangen. Voor bewoners die moeilijk kunnen rondkomen en bewoners die zich eenzaam voelen en die hun sociale contacten willen uitbreiden en nieuwkomers in de wijk. \n\n\n\nNeem voor meer informatie contact op met Bianca van Aken (010-2680311).
URL:https://campusspangen.nl/activiteit/eetclub/2026-03-30/
LOCATION:Westervolkshuis\, Spartastraat 1\, Rotterdam\, 3027 ER\, Nederland
CATEGORIES:Eten,Ontmoeten
ATTACH;FMTTYPE=image/webp:https://campusspangen.nl/wp-content/uploads/2025/01/Eetclub.webp
ORGANIZER;CN="wmo radar":MAILTO:slucio@wmoradar.nl
END:VEVENT
BEGIN:VEVENT
DTSTART;TZID=UTC:20260330T153000
DTEND;TZID=UTC:20260330T170000
DTSTAMP:20260424T035234
CREATED:20240706T230525Z
LAST-MODIFIED:20260203T111835Z
UID:10000373-1774884600-1774890000@campusspangen.nl
SUMMARY:Huiswerkklas
DESCRIPTION:Elke maandagmiddag is er huiswerkklas in Spangen voor kinderen in het basisonderwijs. De begeleider van de huiswerkklas helpt je om jouw huiswerk goed te maken\, geeft uitleg waar dat nodig is en helpt je verder. Of het nu gaat om rekenen\, taal\, aardrijkskunde of begrijpend lezen: we helpen je verder.
URL:https://campusspangen.nl/activiteit/huiswerkklas/2026-03-30/
LOCATION:Tussen Hemel & Aarde\, Jan Luykenstraat 12\, Rotterdam\, 3027 EC
CATEGORIES:Begeleiding,Hulp,Ontwikkelen
ATTACH;FMTTYPE=image/jpeg:https://campusspangen.nl/wp-content/uploads/2024/07/Huiswerkklas-in-Spangen.jpg
ORGANIZER;CN="Geloven in Spangen":MAILTO:info@geloveninspangen.nl
END:VEVENT
BEGIN:VEVENT
DTSTART;TZID=UTC:20260328T113000
DTEND;TZID=UTC:20260328T130000
DTSTAMP:20260424T035234
CREATED:20260112T000609Z
LAST-MODIFIED:20260203T111603Z
UID:10004025-1774697400-1774702800@campusspangen.nl
SUMMARY:Viering
DESCRIPTION:Elke zondag om 11.30 uur is er een viering van Geloven in Spangen in Speeltuin het Westen (Spaanseweg 38). Welkom! Om 11.00 uur staat koffie\, thee en fris klaar en is er gelegenheid voor ontmoeting. Je bent van harte welkom! Na afloop van de viering lunchen we samen. Neem je ook iets lekkers mee voor de lunch?
URL:https://campusspangen.nl/activiteit/viering-2-2/2026-03-28/
LOCATION:Speeltuin het Westen\, Spaanseweg 38\, Rotterdam\, Zuid-Holland\, 3028 HW\, Nederland
CATEGORIES:Zingeving
ATTACH;FMTTYPE=image/jpeg:https://campusspangen.nl/wp-content/uploads/2024/07/Viering-Geloven-in-Spangen-–-Kerk-in-Spangen.jpg
ORGANIZER;CN="Geloven in Spangen":MAILTO:info@geloveninspangen.nl
END:VEVENT
BEGIN:VEVENT
DTSTART;TZID=UTC:20260326T180000
DTEND;TZID=UTC:20260326T190000
DTSTAMP:20260424T035234
CREATED:20260110T000526Z
LAST-MODIFIED:20260203T112312Z
UID:10004166-1774548000-1774551600@campusspangen.nl
SUMMARY:Wijkdiner
DESCRIPTION:Geniet elke week van een heerlijk gezond\, betaalbaar en gezellig wijkdiner in Tussen Hemel & Aarde. \n\n\n\n\n\n€ 1\,50   kinderen tot 12 jaar
URL:https://campusspangen.nl/activiteit/wijkdiner-2/2026-03-26/
LOCATION:Tussen Hemel & Aarde\, Jan Luykenstraat 12\, Rotterdam\, 3027 EC
CATEGORIES:Eten,Ontmoeten
ATTACH;FMTTYPE=image/jpeg:https://campusspangen.nl/wp-content/uploads/2024/07/Wijkdiner-Geloven-in-Spangen.jpg
ORGANIZER;CN="Geloven in Spangen":MAILTO:info@geloveninspangen.nl
END:VEVENT
BEGIN:VEVENT
DTSTART;TZID=UTC:20260325T130000
DTEND;TZID=UTC:20260325T150000
DTSTAMP:20260424T035234
CREATED:20260109T000559Z
LAST-MODIFIED:20260203T111523Z
UID:10003974-1774443600-1774450800@campusspangen.nl
SUMMARY:Kindercoachclub
DESCRIPTION:Bij de kindercoachclub staat ontmoeting\, gezelligheid en leren centraal. We doen leuke spellen\, leren nieuwe skills en leren elkaar beter kennen. Kom je ook?
URL:https://campusspangen.nl/activiteit/kindercoachclub/2026-03-25/
LOCATION:Tussen Hemel & Aarde\, Jan Luykenstraat 12\, Rotterdam\, 3027 EC
CATEGORIES:Begeleiding,Gezondheid,Ontwikkelen
ATTACH;FMTTYPE=image/jpeg:https://campusspangen.nl/wp-content/uploads/2023/12/Kindercoachclub-Spangen.jpg
ORGANIZER;CN="Geloven in Spangen":MAILTO:info@geloveninspangen.nl
END:VEVENT
BEGIN:VEVENT
DTSTART;TZID=UTC:20260323T170000
DTEND;TZID=UTC:20260323T200000
DTSTAMP:20260424T035234
CREATED:20250107T001503Z
LAST-MODIFIED:20260203T111743Z
UID:10004114-1774285200-1774296000@campusspangen.nl
SUMMARY:Eetclub
DESCRIPTION:Welkom bij de eetclub in het Westervolkshuis. Schuif aan bij de buurtmaaltijd in Spangen. Voor bewoners die moeilijk kunnen rondkomen en bewoners die zich eenzaam voelen en die hun sociale contacten willen uitbreiden en nieuwkomers in de wijk. \n\n\n\nNeem voor meer informatie contact op met Bianca van Aken (010-2680311).
URL:https://campusspangen.nl/activiteit/eetclub/2026-03-23/
LOCATION:Westervolkshuis\, Spartastraat 1\, Rotterdam\, 3027 ER\, Nederland
CATEGORIES:Eten,Ontmoeten
ATTACH;FMTTYPE=image/webp:https://campusspangen.nl/wp-content/uploads/2025/01/Eetclub.webp
ORGANIZER;CN="wmo radar":MAILTO:slucio@wmoradar.nl
END:VEVENT
BEGIN:VEVENT
DTSTART;TZID=UTC:20260323T153000
DTEND;TZID=UTC:20260323T170000
DTSTAMP:20260424T035234
CREATED:20240706T230525Z
LAST-MODIFIED:20260203T111835Z
UID:10000372-1774279800-1774285200@campusspangen.nl
SUMMARY:Huiswerkklas
DESCRIPTION:Elke maandagmiddag is er huiswerkklas in Spangen voor kinderen in het basisonderwijs. De begeleider van de huiswerkklas helpt je om jouw huiswerk goed te maken\, geeft uitleg waar dat nodig is en helpt je verder. Of het nu gaat om rekenen\, taal\, aardrijkskunde of begrijpend lezen: we helpen je verder.
URL:https://campusspangen.nl/activiteit/huiswerkklas/2026-03-23/
LOCATION:Tussen Hemel & Aarde\, Jan Luykenstraat 12\, Rotterdam\, 3027 EC
CATEGORIES:Begeleiding,Hulp,Ontwikkelen
ATTACH;FMTTYPE=image/jpeg:https://campusspangen.nl/wp-content/uploads/2024/07/Huiswerkklas-in-Spangen.jpg
ORGANIZER;CN="Geloven in Spangen":MAILTO:info@geloveninspangen.nl
END:VEVENT
BEGIN:VEVENT
DTSTART;TZID=UTC:20260321T113000
DTEND;TZID=UTC:20260321T130000
DTSTAMP:20260424T035234
CREATED:20260112T000609Z
LAST-MODIFIED:20260203T111603Z
UID:10004024-1774092600-1774098000@campusspangen.nl
SUMMARY:Viering
DESCRIPTION:Elke zondag om 11.30 uur is er een viering van Geloven in Spangen in Speeltuin het Westen (Spaanseweg 38). Welkom! Om 11.00 uur staat koffie\, thee en fris klaar en is er gelegenheid voor ontmoeting. Je bent van harte welkom! Na afloop van de viering lunchen we samen. Neem je ook iets lekkers mee voor de lunch?
URL:https://campusspangen.nl/activiteit/viering-2-2/2026-03-21/
LOCATION:Speeltuin het Westen\, Spaanseweg 38\, Rotterdam\, Zuid-Holland\, 3028 HW\, Nederland
CATEGORIES:Zingeving
ATTACH;FMTTYPE=image/jpeg:https://campusspangen.nl/wp-content/uploads/2024/07/Viering-Geloven-in-Spangen-–-Kerk-in-Spangen.jpg
ORGANIZER;CN="Geloven in Spangen":MAILTO:info@geloveninspangen.nl
END:VEVENT
BEGIN:VEVENT
DTSTART;TZID=UTC:20260319T180000
DTEND;TZID=UTC:20260319T190000
DTSTAMP:20260424T035234
CREATED:20260110T000526Z
LAST-MODIFIED:20260203T112312Z
UID:10004165-1773943200-1773946800@campusspangen.nl
SUMMARY:Wijkdiner
DESCRIPTION:Geniet elke week van een heerlijk gezond\, betaalbaar en gezellig wijkdiner in Tussen Hemel & Aarde. \n\n\n\n\n\n€ 1\,50   kinderen tot 12 jaar
URL:https://campusspangen.nl/activiteit/wijkdiner-2/2026-03-19/
LOCATION:Tussen Hemel & Aarde\, Jan Luykenstraat 12\, Rotterdam\, 3027 EC
CATEGORIES:Eten,Ontmoeten
ATTACH;FMTTYPE=image/jpeg:https://campusspangen.nl/wp-content/uploads/2024/07/Wijkdiner-Geloven-in-Spangen.jpg
ORGANIZER;CN="Geloven in Spangen":MAILTO:info@geloveninspangen.nl
END:VEVENT
BEGIN:VEVENT
DTSTART;TZID=UTC:20260318T130000
DTEND;TZID=UTC:20260318T150000
DTSTAMP:20260424T035234
CREATED:20260109T000559Z
LAST-MODIFIED:20260203T111523Z
UID:10003973-1773838800-1773846000@campusspangen.nl
SUMMARY:Kindercoachclub
DESCRIPTION:Bij de kindercoachclub staat ontmoeting\, gezelligheid en leren centraal. We doen leuke spellen\, leren nieuwe skills en leren elkaar beter kennen. Kom je ook?
URL:https://campusspangen.nl/activiteit/kindercoachclub/2026-03-18/
LOCATION:Tussen Hemel & Aarde\, Jan Luykenstraat 12\, Rotterdam\, 3027 EC
CATEGORIES:Begeleiding,Gezondheid,Ontwikkelen
ATTACH;FMTTYPE=image/jpeg:https://campusspangen.nl/wp-content/uploads/2023/12/Kindercoachclub-Spangen.jpg
ORGANIZER;CN="Geloven in Spangen":MAILTO:info@geloveninspangen.nl
END:VEVENT
BEGIN:VEVENT
DTSTART;TZID=UTC:20260316T170000
DTEND;TZID=UTC:20260316T200000
DTSTAMP:20260424T035234
CREATED:20250107T001503Z
LAST-MODIFIED:20260203T111743Z
UID:10004113-1773680400-1773691200@campusspangen.nl
SUMMARY:Eetclub
DESCRIPTION:Welkom bij de eetclub in het Westervolkshuis. Schuif aan bij de buurtmaaltijd in Spangen. Voor bewoners die moeilijk kunnen rondkomen en bewoners die zich eenzaam voelen en die hun sociale contacten willen uitbreiden en nieuwkomers in de wijk. \n\n\n\nNeem voor meer informatie contact op met Bianca van Aken (010-2680311).
URL:https://campusspangen.nl/activiteit/eetclub/2026-03-16/
LOCATION:Westervolkshuis\, Spartastraat 1\, Rotterdam\, 3027 ER\, Nederland
CATEGORIES:Eten,Ontmoeten
ATTACH;FMTTYPE=image/webp:https://campusspangen.nl/wp-content/uploads/2025/01/Eetclub.webp
ORGANIZER;CN="wmo radar":MAILTO:slucio@wmoradar.nl
END:VEVENT
BEGIN:VEVENT
DTSTART;TZID=UTC:20260316T153000
DTEND;TZID=UTC:20260316T170000
DTSTAMP:20260424T035234
CREATED:20240706T230525Z
LAST-MODIFIED:20260203T111835Z
UID:10000371-1773675000-1773680400@campusspangen.nl
SUMMARY:Huiswerkklas
DESCRIPTION:Elke maandagmiddag is er huiswerkklas in Spangen voor kinderen in het basisonderwijs. De begeleider van de huiswerkklas helpt je om jouw huiswerk goed te maken\, geeft uitleg waar dat nodig is en helpt je verder. Of het nu gaat om rekenen\, taal\, aardrijkskunde of begrijpend lezen: we helpen je verder.
URL:https://campusspangen.nl/activiteit/huiswerkklas/2026-03-16/
LOCATION:Tussen Hemel & Aarde\, Jan Luykenstraat 12\, Rotterdam\, 3027 EC
CATEGORIES:Begeleiding,Hulp,Ontwikkelen
ATTACH;FMTTYPE=image/jpeg:https://campusspangen.nl/wp-content/uploads/2024/07/Huiswerkklas-in-Spangen.jpg
ORGANIZER;CN="Geloven in Spangen":MAILTO:info@geloveninspangen.nl
END:VEVENT
END:VCALENDAR